BEGIN:VCALENDAR
VERSION:2.0
METHOD:PUBLISH
BEGIN:VEVENT
DTSTART:20131114T140000
DTEND:20131114T183000
LOCATION:pl. Defilad tymczasowa konstrukcja od str. ul. Świętokrzyskiej  Warszawa
TRANSP: OPAQUE
SEQUENCE:0
UID:
DTSTAMP:20260419T192950Z
SUMMARY:Transformacja energetyczna - konieczność czy szansa ? - Trzy przykłady: Niemcy, Francja, Polska
DESCRIPTION:\n\nKonferencja\n\n&quot;Transformacja\n\nenergetyczna - konieczność czy szansa?&quot;\n\nTrzy\n\nprzykłady: Niemcy, Francja, Polska\n\nWydarzenie\n\ntowarzyszące szczytowi klimatycznemu COP 19......
URL:https://app.evenea.pl/event/transformacjaenergetycznacop19/
PRIORITY:1
CLASS:PUBLIC
END:VEVENT
END:VCALENDAR
