BEGIN:VCALENDAR
VERSION:2.0
METHOD:PUBLISH
BEGIN:VEVENT
DTSTART:20201112T110000
DTEND:20201112T120000
LOCATION:link do transmisji zostanie przesłany do uczestników w wiadomości potwierdzającej rejestrację   
TRANSP: OPAQUE
SEQUENCE:0
UID:
DTSTAMP:20260425T134442Z
SUMMARY:Webinar TLA - Trendy w kontrolach
DESCRIPTION:Zapraszamy na webinarium Kancelarii TLATemat spotkania:Trendy w kontrolachZagadnienia, które omówimy podczas webinarium:wrażliwy temat podejścia Wojewódzkich Urzędów Pracy do przyznawania......
URL:https://app.evenea.pl/event/trendy-w-kontrolach/
PRIORITY:1
CLASS:PUBLIC
END:VEVENT
END:VCALENDAR
