BEGIN:VCALENDAR
VERSION:2.0
METHOD:PUBLISH
BEGIN:VEVENT
DTSTART:20200124T183000
DTEND:20200124T200000
LOCATION:Uniwersytet Śląski Wydział Teologiczny_Festiwal Szkoleń i Coachingu ul. Jordana 18  Katowice
TRANSP: OPAQUE
SEQUENCE:0
UID:
DTSTAMP:20260421T183803Z
SUMMARY:Trener procesowy - osiągnij najwyższy poziom wtajemniczenia_Festiwal Szkoleń i Coachingu w dn. 24.01.2020
DESCRIPTION:Zapisz się na warsztat: Trener procesowy - osiągnij najwyższy poziom wtajemniczenia dla trenerów i szkoleniowców. Warsztat jest organizowany podczas Festiwalu Szkoleń i Coachingu w dn.......
URL:https://app.evenea.pl/event/trenerprocesowy/
PRIORITY:1
CLASS:PUBLIC
END:VEVENT
END:VCALENDAR
