BEGIN:VCALENDAR
VERSION:2.0
METHOD:PUBLISH
BEGIN:VEVENT
DTSTART:20240527T170000
DTEND:20240527T190000
LOCATION:Po Prostu Fajne Miejsce! ul. Jana Sawy 5  Lublin
TRANSP: OPAQUE
SEQUENCE:0
UID:
DTSTAMP:20260424T183946Z
SUMMARY:Warsztaty relaksacyjne: Trening autogenny Schultza
DESCRIPTION:Jeśli jesteś osobą, która zmaga się z bolesnymi miesiączkami i szuka sposobów na złagodzenie dolegliwości to zapraszamy Cię do wzięcia udziału w spotkaniu podczas, którego poznasz......
URL:https://app.evenea.pl/event/treningautogennyschultza/
PRIORITY:1
CLASS:PUBLIC
END:VEVENT
END:VCALENDAR
