BEGIN:VCALENDAR
VERSION:2.0
METHOD:PUBLISH
BEGIN:VEVENT
DTSTART:20251214T073000
DTEND:20251214T090000
LOCATION:   Bartne
TRANSP: OPAQUE
SEQUENCE:0
UID:
DTSTAMP:20260422T122242Z
SUMMARY:Tropienie / warsztaty / Odkryj dzikość Beskidu Niskiego
DESCRIPTION:Warsztaty "Tropienie" to poranny spacer połączony z poszukiwaniem śladów obecności dużych drapieżników, takich jak wilk czy ryś. 4W jednym z najdzikszych miejsc w Polsce, uczestnicy......
URL:https://app.evenea.pl/event/tropienieodkryjdzikoscbn/
PRIORITY:1
CLASS:PUBLIC
END:VEVENT
END:VCALENDAR
