BEGIN:VCALENDAR
VERSION:2.0
METHOD:PUBLISH
BEGIN:VEVENT
DTSTART:20230215T180000
DTEND:20230215T180000
LOCATION:Europejskie Centrum Solidarności  I  European Solidarity Centre plac Solidarności 1  Gdańsk
TRANSP: OPAQUE
SEQUENCE:0
UID:
DTSTAMP:20260424T225116Z
SUMMARY:Trudne tematy, jak je poruszać? | warsztaty dla rodziców i osób pracujących z młodzieżą
DESCRIPTION:Często rozmowy z nastolatkiem kończą się konfliktem, trzaśnięciem drzwiami, obustronną bezsilnością i rozgoryczeniem. A gdyby tak spróbować nowych metod komunikacji? Zrozumieć "o co im......
URL:https://app.evenea.pl/event/trudnetematy/
PRIORITY:1
CLASS:PUBLIC
END:VEVENT
END:VCALENDAR
