BEGIN:VCALENDAR
VERSION:2.0
METHOD:PUBLISH
BEGIN:VEVENT
DTSTART:20200718T150000
DTEND:20200718T170000
LOCATION:NAMIOT TASHKA - zbiórka w lokalu Triki Tashka Plac Konesera 3, Budynek D / Butelkownia  Warszawa
TRANSP: OPAQUE
SEQUENCE:0
UID:
DTSTAMP:20260424T134425Z
SUMMARY:Trzy skrzynki - Triki Skrzynki
DESCRIPTION:To mini warsztaciki pełne niespodzianek. W każdej szufladce, kryją się istne skarby, z których można zrobić niesamowite rzeczy! Tashek chętnie dzieli się pomysłami na zabawę, więc......
URL:https://app.evenea.pl/event/trzy-skrzynki-triki-skrzynki-5/
PRIORITY:1
CLASS:PUBLIC
END:VEVENT
END:VCALENDAR
