BEGIN:VCALENDAR
VERSION:2.0
METHOD:PUBLISH
BEGIN:VEVENT
DTSTART:20240425T140000
DTEND:20240425T150000
LOCATION:April 25, 2024 (Thursday) / 2:00 p.m. - 3 p.m. / time zone - GMT+1   
TRANSP: OPAQUE
SEQUENCE:0
UID:
DTSTAMP:20260420T191322Z
SUMMARY:Virtual Open Day 2024 - Lodz University of Technology (AZ)
DESCRIPTION:📢 Nə üçün Lodz Texnologiya Universitetində təhsil almalı olduğunuzu bilmək istərdinizmi? Tələbələrimizlə tanış olun və universitetimizin təklif etdiyi bütün imkanları......
URL:https://app.evenea.pl/event/tulopendayaz/
PRIORITY:1
CLASS:PUBLIC
END:VEVENT
END:VCALENDAR
