BEGIN:VCALENDAR
VERSION:2.0
METHOD:PUBLISH
BEGIN:VEVENT
DTSTART:20240425T100000
DTEND:20240425T120000
LOCATION:April 25, 2024 (Thursday) / 10 a.m. - 12 p.m. / time zone:  GMT+1   
TRANSP: OPAQUE
SEQUENCE:0
UID:
DTSTAMP:20260420T192945Z
SUMMARY:Virtual Open Day 2024 - Lodz University of Technology (ENG)
DESCRIPTION:📢 Want to learn why you should study at Lodz University of Technology?Meet our students and explore all the opportunities our university has to offer 🎓❗️Architecture, Design, Industrial......
URL:https://app.evenea.pl/event/tulopendayeng/
PRIORITY:1
CLASS:PUBLIC
END:VEVENT
END:VCALENDAR
