BEGIN:VCALENDAR
VERSION:2.0
METHOD:PUBLISH
BEGIN:VEVENT
DTSTART:20240425T140000
DTEND:20240425T150000
LOCATION:April 25, 2024 (Thursday) / 2:00 p.m. - 3 p.m. / time zone GMT+1   
TRANSP: OPAQUE
SEQUENCE:0
UID:
DTSTAMP:20260420T190812Z
SUMMARY:Virtual Open Day 2024 - Lodz University of Technology (ESP)
DESCRIPTION:📢¿Quieres saber por qué deberías estudiar en la Universidad Tecnológica de Lodz?Conoce a nuestros estudiantes y descubre todas las oportunidades que nuestra universidad te ofrece......
URL:https://app.evenea.pl/event/tulopendayesp/
PRIORITY:1
CLASS:PUBLIC
END:VEVENT
END:VCALENDAR
