BEGIN:VCALENDAR
VERSION:2.0
METHOD:PUBLISH
BEGIN:VEVENT
DTSTART:20240425T130000
DTEND:20240425T140000
LOCATION:April 25, 2024 (Thursday) / 1:00 p.m. - 2 p.m. / time zone GMT+1 5 p.m. - 6 p.m. / time zone GMT+4  
TRANSP: OPAQUE
SEQUENCE:0
UID:
DTSTAMP:20260420T191402Z
SUMMARY:Virtual Open Day 2024 - Lodz University of Technology (KZ)
DESCRIPTION:📢 Лодзь технологиялық университетінде неге окуыңыз керектігін білгіңіз келе ме?Біздің студенттерімізбен......
URL:https://app.evenea.pl/event/tulopendaykz/
PRIORITY:1
CLASS:PUBLIC
END:VEVENT
END:VCALENDAR
