BEGIN:VCALENDAR
VERSION:2.0
METHOD:PUBLISH
BEGIN:VEVENT
DTSTART:20240425T150000
DTEND:20240425T160000
LOCATION:April 25, 2024 (Thursday) / 3:00 p.m. - 4 p.m. / time zone GMT+1 5:00 p.m. - 6:00 p.m. / time zone  GMT+2  
TRANSP: OPAQUE
SEQUENCE:0
UID:
DTSTAMP:20260420T191306Z
SUMMARY:Virtual Open Day 2024 - Lodz University of Technology (TR)
DESCRIPTION:📢 Neden Lodz Teknoloji Üniversitesi'nde okumanın büyük bir fırsat olduğunu öğrenmek ister misin?Seni öğrencilerimizle tanışmaya ve üniversitemizin sunduğu muhteşem fırsatları......
URL:https://app.evenea.pl/event/tulopendaytr/
PRIORITY:1
CLASS:PUBLIC
END:VEVENT
END:VCALENDAR
