BEGIN:VCALENDAR
VERSION:2.0
METHOD:PUBLISH
BEGIN:VEVENT
DTSTART:20240425T150000
DTEND:20240425T160000
LOCATION:April 25, 2024 (Thursday) /  3 p.m. - 4 p.m. / time zone:  GMT+1 4 p.m. / time zone: GMT+2  
TRANSP: OPAQUE
SEQUENCE:0
UID:
DTSTAMP:20260420T190859Z
SUMMARY:Virtual Open Day 2024 - Lodz University of Technology (UA)
DESCRIPTION:📢 Бажаєте дізнатися, чому варто обрати Лодзький технічний університет?Запрошуємо вас зустріти наших......
URL:https://app.evenea.pl/event/tulopendayua/
PRIORITY:1
CLASS:PUBLIC
END:VEVENT
END:VCALENDAR
