BEGIN:VCALENDAR
VERSION:2.0
METHOD:PUBLISH
BEGIN:VEVENT
DTSTART:20230330T183000
DTEND:20230330T183000
LOCATION:Instytut Cervantesa w Warszawie ul. Nowogrodzka 22  00-511 Warszawa
TRANSP: OPAQUE
SEQUENCE:0
UID:
DTSTAMP:20260421T195039Z
SUMMARY:Dyskusja. Współcześni odkrywcy. Turystyka odpowiedzialna
DESCRIPTION:[PL] DYSKUSJA. WSPÓŁCZEŚNI ODKRYWCY. TURYSTYKA ODPOWIEDZIALNA. Jak i dlaczego podróżujemy w XXI wieku? W jaki sposób odkrywamy nieznane światy? Jak o nich opowiadamy? Jaki wpływ na......
URL:https://app.evenea.pl/event/turystykaodpowiedzialna/
PRIORITY:1
CLASS:PUBLIC
END:VEVENT
END:VCALENDAR
