BEGIN:VCALENDAR
VERSION:2.0
METHOD:PUBLISH
BEGIN:VEVENT
DTSTART:20250227T170000
DTEND:20250227T190000
LOCATION:Dąbrowski Inkubator Przedsiębiorczości Kolejowa 3  Dąbrowa Górnicza
TRANSP: OPAQUE
SEQUENCE:0
UID:
DTSTAMP:20260423T110038Z
SUMMARY:27.02 godz. 17:00 Szkolenie: Jak zabrać się za swój pierwszy biznes
DESCRIPTION:Dąbrowski Inkubator Przedsiębiorczości zaprasza na bezpłatne szkolenie "Jak zabrać się za swój pierwszy biznes", które odbędzie się w środę 27 lutego o godzinie 17:00 w siedzibie DIP,......
URL:https://app.evenea.pl/event/twojpierwszybiznesdip/
PRIORITY:1
CLASS:PUBLIC
END:VEVENT
END:VCALENDAR
