BEGIN:VCALENDAR
VERSION:2.0
METHOD:PUBLISH
BEGIN:VEVENT
DTSTART:20230906T170000
DTEND:20230913T210000
LOCATION:CODE:ME   Gdańsk, Gdynia, Sopot, Poznań, online
TRANSP: OPAQUE
SEQUENCE:0
UID:
DTSTAMP:20260424T220122Z
SUMMARY:Tydzień Programisty 2023
DESCRIPTION:Tydzień Programisty 2023 is coming! 🚀🌟 Już wkrótce kolejny Tydzień Programisty! 🎉💻W tym roku, już po raz 6 świętujemy Dzień Programistów! Zapraszamy Was do udziału w......
URL:https://app.evenea.pl/event/tydzienprogramisty2023/
PRIORITY:1
CLASS:PUBLIC
END:VEVENT
END:VCALENDAR
