BEGIN:VCALENDAR
VERSION:2.0
METHOD:PUBLISH
BEGIN:VEVENT
DTSTART:20250829T180000
DTEND:20250924T210000
LOCATION:CODE:ME   Trójmiasto, Poznań, Katowice, Warszawa, online
TRANSP: OPAQUE
SEQUENCE:0
UID:
DTSTAMP:20260420T032948Z
SUMMARY:Tydzień Programisty 2025
DESCRIPTION:\n\nTydzień Programisty 2025 is coming! \n\n🌟 Już wkrótce kolejny Tydzień Programisty! 🎉💻\n\n\n\n	W tym roku, już po raz 8 świętujemy Dzień Programistów! Zapraszamy Was do......
URL:https://app.evenea.pl/event/tydzienprogramisty2025/
PRIORITY:1
CLASS:PUBLIC
END:VEVENT
END:VCALENDAR
