BEGIN:VCALENDAR
VERSION:2.0
METHOD:PUBLISH
BEGIN:VEVENT
DTSTART:20210422T120000
DTEND:20210422T130000
LOCATION:inQUBE Uniwersytecki Inkubator Przedsiębiorczości Wielka 67  Wrocław
TRANSP: OPAQUE
SEQUENCE:0
UID:
DTSTAMP:20260425T164228Z
SUMMARY:ABC podlegania ubezpieczeniom w ZUS - szkolenie dla rozpoczynających działalność
DESCRIPTION:Ekspert omówi podstawowe zasady podlegania ubezpieczeniom pracowników, zleceniobiorców, zasady zgłoszeń do ubezpieczeń oraz rozliczania składek i korygowania dokumentacji.Prowadzący:Ewa......
URL:https://app.evenea.pl/event/ubezpieczeniawzus/
PRIORITY:1
CLASS:PUBLIC
END:VEVENT
END:VCALENDAR
