BEGIN:VCALENDAR
VERSION:2.0
METHOD:PUBLISH
BEGIN:VEVENT
DTSTART:20210331T120000
DTEND:20210331T124500
LOCATION:inQUBE Uniwersytecki Inkubator Przedsiębiorczości Wielka 67  Wrocław
TRANSP: OPAQUE
SEQUENCE:0
UID:
DTSTAMP:20260425T153155Z
SUMMARY:Ulgi w składkach na ZUS dla rozpoczynających działalność - webinar
DESCRIPTION:Uczestnicy szkolenia dowiedzą się gdzie zarejestrować działalność, jakie czekają ich obowiązki wobec ZUS, a także terminy i wysokość opłacanych składek. Prowadzący:Roman Ciupa z......
URL:https://app.evenea.pl/event/ulgiwskladkach/
PRIORITY:1
CLASS:PUBLIC
END:VEVENT
END:VCALENDAR
