BEGIN:VCALENDAR
VERSION:2.0
METHOD:PUBLISH
BEGIN:VEVENT
DTSTART:20191106T090000
DTEND:20191106T090000
LOCATION:Gdański Park Naukowo-Technologiczny Trzy Lipy 3  Gdańsk
TRANSP: OPAQUE
SEQUENCE:0
UID:
DTSTAMP:20260421T050202Z
SUMMARY:Seminarium "Umowy w obrocie gospodarczym", 6 listopada 2019 r., Gdański Park Naukowo-Technologiczny
DESCRIPTION:Pomorski ośrodek Enterprise Europe Network przy Stowarzyszeniu "Wolna Przedsiębiorczość" zaprasza przedsiębiorców, zainteresowanych poznaniem praktycznych wiadomości o zasadach związanych z......
URL:https://app.evenea.pl/event/umowy/
PRIORITY:1
CLASS:PUBLIC
END:VEVENT
END:VCALENDAR
