BEGIN:VCALENDAR
VERSION:2.0
METHOD:PUBLISH
BEGIN:VEVENT
DTSTART:20240924T123000
DTEND:20240924T170000
LOCATION:Miejsce Otwarte. Centrum Integracji Międzykulturowej. Kraków os. Górali 24  Kraków
TRANSP: OPAQUE
SEQUENCE:0
UID:
DTSTAMP:20260423T053613Z
SUMMARY:Animacje urodzinowe | Birthday animations  | Анімації на день народження
DESCRIPTION:Język prowadzenia: english, polski, ukraińskiPL: W tym lemoniada dla gości na zewnątrz, robienie ozdób urodzinowych, przygotowywanie gier podwórkowych, pieczenie ciastek, przygotowywanie......
URL:https://app.evenea.pl/event/urodzinoweanimacje2409/
PRIORITY:1
CLASS:PUBLIC
END:VEVENT
END:VCALENDAR
