BEGIN:VCALENDAR
VERSION:2.0
METHOD:PUBLISH
BEGIN:VEVENT
DTSTART:20200224T150000
DTEND:20200224T180000
LOCATION:Aula Starej Biblioteki UW Krakowskie Przedmieście 26/28  Warszawa
TRANSP: OPAQUE
SEQUENCE:0
UID:
DTSTAMP:20260421T025923Z
SUMMARY:Spotkanie informacyjno-konsultacyjne dotyczące realizacji programu "Inicjatywa doskonałości - Uczelnia badawcza" na UW
DESCRIPTION:W trosce o środowisko prosimy o niedrukowanie biletu. Potwierdzenie papierowe nie będzie wymagane przy wejściu na spotkanie....
URL:https://app.evenea.pl/event/uw24lutego/
PRIORITY:1
CLASS:PUBLIC
END:VEVENT
END:VCALENDAR
