BEGIN:VCALENDAR
VERSION:2.0
METHOD:PUBLISH
BEGIN:VEVENT
DTSTART:20220117T173000
DTEND:20220117T193000
LOCATION:WELL.ME Obrońców Westerplatte 34  80-317 Gdańsk
TRANSP: OPAQUE
SEQUENCE:0
UID:
DTSTAMP:20260425T014730Z
SUMMARY:Gdańsk - Spotkanie informacyjne dla rodziców i nauczycieli - trening uważności Metodą Eline Snel© "Uwaga, to działa!"
DESCRIPTION:Serdecznie zapraszam na spotkanie informacyjne o treningu uważności (ang. mindfulness) dla dzieci i młodzieży Metodą Eline Snel© "Uwaga, to działa!" w poniedziałek 17 stycznia 2022, o......
URL:https://app.evenea.pl/event/uwaznoscdladziecistyczen2022/
PRIORITY:1
CLASS:PUBLIC
END:VEVENT
END:VCALENDAR
