BEGIN:VCALENDAR
VERSION:2.0
METHOD:PUBLISH
BEGIN:VEVENT
DTSTART:20260506T090000
DTEND:20260508T133000
LOCATION:Online   
TRANSP: OPAQUE
SEQUENCE:0
UID:
DTSTAMP:20260425T170542Z
SUMMARY:Omnichannel Experiences in the AI Era | UX-PM Poziom 1 | 6-8 maja 2026
DESCRIPTION:UX-PMUX-PM to unikatowy na skalę międzynarodową program szkoleniowy certyfikowany przez stowarzyszenie UXalliance.User Experience (UX) jest jednym z najbardziej innowacyjnych obszarów biznesu w......
URL:https://app.evenea.pl/event/ux-pm-1-6-8-05-2026/
PRIORITY:1
CLASS:PUBLIC
END:VEVENT
END:VCALENDAR
