BEGIN:VCALENDAR
VERSION:2.0
METHOD:PUBLISH
BEGIN:VEVENT
DTSTART:20260527T090000
DTEND:20260529T134500
LOCATION:online   
TRANSP: OPAQUE
SEQUENCE:0
UID:
DTSTAMP:20260420T051711Z
SUMMARY:Building AI-powered products | UX-PM Poziom 2 | 27-29 maja 2026
DESCRIPTION:UX-PM\n\n	UX-PM to unikatowy na skalę międzynarodową program szkoleniowy certyfikowany przez stowarzyszenie UXalliance.\n\n\n\n	User Experience (UX) jest jednym z najbardziej innowacyjnych......
URL:https://app.evenea.pl/event/ux-pm-2-27-29-05-2026/
PRIORITY:1
CLASS:PUBLIC
END:VEVENT
END:VCALENDAR
