BEGIN:VCALENDAR
VERSION:2.0
METHOD:PUBLISH
BEGIN:VEVENT
DTSTART:20240423T173000
DTEND:20240423T190000
LOCATION:Miejsce Otwarte. Centrum Integracji Międzykulturowej. Kraków, Kraków os. Górali 24  Kraków
TRANSP: OPAQUE
SEQUENCE:0
UID:
DTSTAMP:20260423T050516Z
SUMMARY:Uzależnienia u młodzieży: Jak rozpoznać, reagować i pomóc? | Addictions in adolescents: How to recognize, react and help? | Залежності у підлітків: Як розпізнати, відреагувати та допомогти?
DESCRIPTION:Grupa wiekowa: 18+Język prowadzenia: polski z tłumaczeniem na język ukraińskiUzależnienia u młodzieży: Jak rozpoznać, reagować i pomóc? Szkolenie dla rodzicówSpotkanie odbędzie się......
URL:https://app.evenea.pl/event/uzaleznieniaumlodziezy2304/
PRIORITY:1
CLASS:PUBLIC
END:VEVENT
END:VCALENDAR
