BEGIN:VCALENDAR
VERSION:2.0
METHOD:PUBLISH
BEGIN:VEVENT
DTSTART:20251129T163000
DTEND:20251129T163000
LOCATION:Wrocławskie  Centrum Kongresowe Ul. Wystawowa 1  Wrocław
TRANSP: OPAQUE
SEQUENCE:0
UID:
DTSTAMP:20260420T142913Z
SUMMARY:V Dolnośląski Kongres Kobiet - Kobiety: Teraz!
DESCRIPTION:Zapraszamy na V Dolnośląski Kongres Kobiet, który odbędzie się w sobotę, 29 listopada we Wrocławiu! To wyjątkowe spotkanie dla wszystkich, którym bliskie są kwestie równości i praw......
URL:https://app.evenea.pl/event/vdolnoslaskikongreskobiet/
PRIORITY:1
CLASS:PUBLIC
END:VEVENT
END:VCALENDAR
