BEGIN:VCALENDAR
VERSION:2.0
METHOD:PUBLISH
BEGIN:VEVENT
DTSTART:20210617T100000
DTEND:20210617T170000
LOCATION:MCC Mazurkas Conference Centre & Hotel Poznańska 177  Ożarów Mazowiecki
TRANSP: OPAQUE
SEQUENCE:0
UID:
DTSTAMP:20260422T100205Z
SUMMARY:VII Edycja Konferencji Event Biznes
DESCRIPTION:Event Biznes w plenerze niesie świeżość i nadziejęStowarzyszenie Branży Eventowej (SBE) po raz siódmy organizuje konferencję Event Biznes kierowaną do branży eventowej. Konferencja......
URL:https://app.evenea.pl/event/viieventbiznes/
PRIORITY:1
CLASS:PUBLIC
END:VEVENT
END:VCALENDAR
