BEGIN:VCALENDAR
VERSION:2.0
METHOD:PUBLISH
BEGIN:VEVENT
DTSTART:20250523T160000
DTEND:20250523T200000
LOCATION:Hotel Andersia Plac Andersa 3  Poznań
TRANSP: OPAQUE
SEQUENCE:0
UID:
DTSTAMP:20260421T080020Z
SUMMARY:Vininova Wine&Spirits Festival 2025!
DESCRIPTION:Zapraszamy na Vininova Wine &amp; Spirits Festival 2025! 🍷🥃Wydarzenie tylko dla pełnoletnich! Przy wejściu na festiwal organizator będzie weryfikował wiek uczestników. 📍 23 maja -......
URL:https://app.evenea.pl/event/vininovapoznan/
PRIORITY:1
CLASS:PUBLIC
END:VEVENT
END:VCALENDAR
