BEGIN:VCALENDAR
VERSION:2.0
METHOD:PUBLISH
BEGIN:VEVENT
DTSTART:20240925T090000
DTEND:20240925T161500
LOCATION:West Gate Conference Centre Al. Jerozolimskie 92  Warszawa
TRANSP: OPAQUE
SEQUENCE:0
UID:
DTSTAMP:20260422T015639Z
SUMMARY:VMware FutureTech Forum & VMUG Poland
DESCRIPTION:\n\n	VMware FutureTech Forum Poland kontynuuje tradycję spotkań VMware Technology Forum, wydarzenia, mającego na celu dzielenie się strategią VMware by Broadcom i prezentowanie udanych......
URL:https://app.evenea.pl/event/vmwarefuturetechforum/
PRIORITY:1
CLASS:PUBLIC
END:VEVENT
END:VCALENDAR
