BEGIN:VCALENDAR
VERSION:2.0
METHOD:PUBLISH
BEGIN:VEVENT
DTSTART:20250812T173000
DTEND:20250812T173000
LOCATION:Pracownia Centrali   Warszawa
TRANSP: OPAQUE
SEQUENCE:0
UID:
DTSTAMP:20260422T133342Z
SUMMARY:W Pracowni - Centrala
DESCRIPTION:Kolejną pracownią, którą odwiedzimy przy okazji wystawy Architektki, będzie Centrala!Centralę tworzą Małgorzata Kuciewicz i Simone De Iacobis. Zajmują się nie tylko projektowaniem, ale......
URL:https://app.evenea.pl/event/w-pracowni-centrala/
PRIORITY:1
CLASS:PUBLIC
END:VEVENT
END:VCALENDAR
