BEGIN:VCALENDAR
VERSION:2.0
METHOD:PUBLISH
BEGIN:VEVENT
DTSTART:20230223T170000
DTEND:20230223T220000
LOCATION:Olivia Business Centre Aleja Grunwaldzka 472  Gdańsk
TRANSP: OPAQUE
SEQUENCE:0
UID:
DTSTAMP:20260421T165333Z
SUMMARY:Biznes po Kaszubsku & W Zdrowym Ciele Zdrowy Duch Biznesowy - "RABAT"
DESCRIPTION:ZAPROSZENIE: 23.II.2023 - Biznes po Kaszubsku &amp; W Zdrowym Ciele Zdrowy Duch BiznesowyDzień dobry, w naprawdę wolnej chwili zapraszamy Was na wydarzenie, które odbędzie się pod hasłem "W......
URL:https://app.evenea.pl/event/w-zdrowym-ciele-zdrowy-duch-biznesowy/
PRIORITY:1
CLASS:PUBLIC
END:VEVENT
END:VCALENDAR
