BEGIN:VCALENDAR
VERSION:2.0
METHOD:PUBLISH
BEGIN:VEVENT
DTSTART:20210803T180000
DTEND:20210803T180000
LOCATION:Filia nr 7 Miejskiej Biblioteki Publicznej w Szczecinie pl. Matki Teresy z Kalkuty 8  Szczecin
TRANSP: OPAQUE
SEQUENCE:0
UID:
DTSTAMP:20260423T043112Z
SUMMARY:Wakacje z Gryfami. Spotkanie z Katarzyną Nakielską-Pawluk
DESCRIPTION:3 sierpnia (wtorek) o godz. 18.00 zapraszamy na spotkanie z Katarzyną Nakielską-Pawluk, autorką "Wakacji z Gryfami", czyli podróży Szlakiem Gryfitów po Pomorzu Zachodnim i nie tylko.......
URL:https://app.evenea.pl/event/wakacjezgryfami/
PRIORITY:1
CLASS:PUBLIC
END:VEVENT
END:VCALENDAR
