BEGIN:VCALENDAR
VERSION:2.0
METHOD:PUBLISH
BEGIN:VEVENT
DTSTART:20240709T180000
DTEND:20240709T190000
LOCATION:Centrum Edukacji i Wsparcia os. Górali 24  Kraków
TRANSP: OPAQUE
SEQUENCE:0
UID:
DTSTAMP:20260423T235850Z
SUMMARY:O ekologicznym i etycznym wolontariacie | About ecological and ethical volunteering | Про екологічне та етичне волонтерство
DESCRIPTION:Grupa wiekowa: dla wszystkichJęzyk prowadzenia: polskiPL | Nowa odsłona cyklu "Podróże dookoła świata". Na wakacje zmieniamy trochę kurs, by poopowiadać o naszych doświadczeniach! Tym......
URL:https://app.evenea.pl/event/wakacyjneopowiesci0907/
PRIORITY:1
CLASS:PUBLIC
END:VEVENT
END:VCALENDAR
