BEGIN:VCALENDAR
VERSION:2.0
METHOD:PUBLISH
BEGIN:VEVENT
DTSTART:20240820T180000
DTEND:20240820T190000
LOCATION:Centrum Edukacji i Wsparcia os. Górali 24  Kraków
TRANSP: OPAQUE
SEQUENCE:0
UID:
DTSTAMP:20260423T235034Z
SUMMARY:Jak zaplanować podróż dookoła świata (i przy tym nie zbankrutować) | How to plan a trip around the world (and not go bankrupt) | Як спланувати навколосвітню подорож (і не розоритися при цьому)
DESCRIPTION:Grupa wiekowa: dla wszystkichJęzyk prowadzenia: polskiPL | Nowa odsłona cyklu "Podróże dookoła świata". Na wakacje zmieniamy trochę kurs, by poopowiadać o naszych doświadczeniach! ENG | A......
URL:https://app.evenea.pl/event/wakacyjneopowiesci2008/
PRIORITY:1
CLASS:PUBLIC
END:VEVENT
END:VCALENDAR
