BEGIN:VCALENDAR
VERSION:2.0
METHOD:PUBLISH
BEGIN:VEVENT
DTSTART:20250920T100000
DTEND:20250920T150000
LOCATION:budynek dawnej szkoły Wiersze ul. Armii Krajowej 21  05-152 Czosnów
TRANSP: OPAQUE
SEQUENCE:0
UID:
DTSTAMP:20260421T172526Z
SUMMARY:"Warcaby i szachy - Tradycja, która łączy Pokolenia!" - Turniej Warcabowy (zaliczany do rywalizacji Grand Prix Polski - Strefa Centralna)
DESCRIPTION:Zapraszamy do udziału w TURNIEJU WARCABOWYM realizowanym w ramach zadania publicznego "Warcaby i szachy - Tradycja, która łączy Pokolenia!"Termin: 20 września 2025 r., godz.......
URL:https://app.evenea.pl/event/warcaby2025/
PRIORITY:1
CLASS:PUBLIC
END:VEVENT
END:VCALENDAR
