BEGIN:VCALENDAR
VERSION:2.0
METHOD:PUBLISH
BEGIN:VEVENT
DTSTART:20231007T100000
DTEND:20231007T150000
LOCATION:Multicentrum Misja Kampinos ul. Łąki 2  05 - 870 Błonie
TRANSP: OPAQUE
SEQUENCE:0
UID:
DTSTAMP:20260425T170244Z
SUMMARY:Warcaby z Misją Kampinos
DESCRIPTION:Szanowni Państwo,Zapraszamy mieszkańców Mazowsza na wydarzenie "Warcaby i szachy z Misją Kampinos'' Celem jego przeprowadzenia będzie promocja tego elitarnego sportu oraz jego upowszechnienie......
URL:https://app.evenea.pl/event/warcabymisjakampinos2023/
PRIORITY:1
CLASS:PUBLIC
END:VEVENT
END:VCALENDAR
