BEGIN:VCALENDAR
VERSION:2.0
METHOD:PUBLISH
BEGIN:VEVENT
DTSTART:20211026T100000
DTEND:20211026T110000
LOCATION:   
TRANSP: OPAQUE
SEQUENCE:0
UID:
DTSTAMP:20260419T155131Z
SUMMARY:Webinar: Wsparcie na podnoszenie kwalifikacji w ofercie WARP Sp. z o.o.
DESCRIPTION:Poznań Biznes Partner oraz Wielkopolska Agencja Rozwoju Przedsiębiorczości Sp. z o.o. zaprasza na bezpłatny webinar pt. ,,Wsparcie na otwarcie działalności gospodarczej oraz na podnoszenie......
URL:https://app.evenea.pl/event/warp-26-10/
PRIORITY:1
CLASS:PUBLIC
END:VEVENT
END:VCALENDAR
