BEGIN:VCALENDAR
VERSION:2.0
METHOD:PUBLISH
BEGIN:VEVENT
DTSTART:20251118T100000
DTEND:20251118T100000
LOCATION:online   
TRANSP: OPAQUE
SEQUENCE:0
UID:
DTSTAMP:20260422T130858Z
SUMMARY:Zwrot kosztów szkoleń, doradztwa itp. poprzez udział w projekcie "Usługi rozwojowe dla Twojego biznesu"
DESCRIPTION:Poznań Biznes Partner, Wielkopolska Agencja Rozwoju Przedsiębiorczości oraz Stowarzyszenie Na Rzecz Spółdzielni Socjalnych zapraszają na bezpłatny webinar pt. Zwrot kosztów szkoleń,......
URL:https://app.evenea.pl/event/warpuslugirozwojowe10kopia1/
PRIORITY:1
CLASS:PUBLIC
END:VEVENT
END:VCALENDAR
