BEGIN:VCALENDAR
VERSION:2.0
METHOD:PUBLISH
BEGIN:VEVENT
DTSTART:20230218T100000
DTEND:20230218T120000
LOCATION:Miejskie Hale Targowe w Gdyni, hol HALI ŁUKOWEJ Wójta Radtkego 36  Gdynia
TRANSP: OPAQUE
SEQUENCE:0
UID:
DTSTAMP:20260421T032901Z
SUMMARY:Dzień Kreatywny Hal Targowych w Gdyni// Warsztaty SCRUNCHIES//18 lutego
DESCRIPTION:Zapraszamy na warsztaty szycia gumek scrunchies z Pracownią Lilki Szpilki w ramach Dnia Kreatywnego Hal Targowych w Gdyni! Czas: 18 lutego 2023; 10.00- 12.00 Start: hol główny Hali......
URL:https://app.evenea.pl/event/warszatyscrunchies/
PRIORITY:1
CLASS:PUBLIC
END:VEVENT
END:VCALENDAR
