BEGIN:VCALENDAR
VERSION:2.0
METHOD:PUBLISH
BEGIN:VEVENT
DTSTART:20260516T180000
DTEND:20260516T180000
LOCATION:ZODIAK Warszawski Pawilon Architektury Pasaż Stefana Wiecheckiego "Wiecha" 4  Warszawa
TRANSP: OPAQUE
SEQUENCE:0
UID:
DTSTAMP:20260424T195819Z
SUMMARY:Warszawa: Graj w miasto | wykład i warsztat tworzenia gier
DESCRIPTION:Warsztaty przeznaczone dla osób powyżej 16 roku życia.Jak różne gry opowiadają o Warszawie? Czy miasto może być bohaterem, planszą, a może zagadką do rozwiązania? Spójrzmy na Warszawę......
URL:https://app.evenea.pl/event/warszawagrajwmiasto/
PRIORITY:1
CLASS:PUBLIC
END:VEVENT
END:VCALENDAR
