BEGIN:VCALENDAR
VERSION:2.0
METHOD:PUBLISH
BEGIN:VEVENT
DTSTART:20260321T123000
DTEND:20260321T123000
LOCATION:ZODIAK Warszawski Pawilon Architektury Pasaż Stefana Wiecheckiego "Wiecha" 4  Warszawa
TRANSP: OPAQUE
SEQUENCE:0
UID:
DTSTAMP:20260422T130811Z
SUMMARY:Warszawa vs. Singapur | Warsztaty rodzinne
DESCRIPTION:Warsztaty przeznaczone dla rodzin.Zapraszamy na warsztaty rodzinne w ramach wystawy Singapur. Krystyn Olszewski: Miasto, Urbanistyka, Przyszłość!Czy wiedzieliście, że jedno z......
URL:https://app.evenea.pl/event/warszawavssingapur/
PRIORITY:1
CLASS:PUBLIC
END:VEVENT
END:VCALENDAR
