BEGIN:VCALENDAR
VERSION:2.0
METHOD:PUBLISH
BEGIN:VEVENT
DTSTART:20240420T100000
DTEND:20240420T120000
LOCATION:Miejskie Hale Targowe w Gdyni, hol główny Wójta Radtkego 36  Gdynia
TRANSP: OPAQUE
SEQUENCE:0
UID:
DTSTAMP:20260423T192625Z
SUMMARY:Dzień Kreatywny Hal Targowych w Gdyni//Warsztat filcowa biżuteria//20 kwietnia 2024
DESCRIPTION:Zapraszamy na warsztaty filcowej biżuterii z Pracownią Lilki Szpilki w ramach Dnia Kreatywnego Hal Targowych w Gdyni! Czas: 17 lutego 2024; 10.00- 12.00 Start: hol główny Hali......
URL:https://app.evenea.pl/event/warsztatbizuteriafilcowa/
PRIORITY:1
CLASS:PUBLIC
END:VEVENT
END:VCALENDAR
