BEGIN:VCALENDAR
VERSION:2.0
METHOD:PUBLISH
BEGIN:VEVENT
DTSTART:20250614T110000
DTEND:20250614T110000
LOCATION:Mediateka Kolejowa 24b  Ostrów Wielkopolski
TRANSP: OPAQUE
SEQUENCE:0
UID:
DTSTAMP:20260422T003904Z
SUMMARY:Pismo mówi o Tobie wiele ... warsztat grafologa - spotkanie z Jerzym Frąszczakiem
DESCRIPTION:Pismo mówi o Tobie wiele ... Podczas spotkania dowiecie się Państwo Czym zajmują się grafolodzy (i tak modni ostatnio psychografolodzy), kiedy korzysta się z ich pomocy; jakie stosuje się......
URL:https://app.evenea.pl/event/warsztatgrafologa/
PRIORITY:1
CLASS:PUBLIC
END:VEVENT
END:VCALENDAR
