BEGIN:VCALENDAR
VERSION:2.0
METHOD:PUBLISH
BEGIN:VEVENT
DTSTART:20221025T143000
DTEND:20221025T160000
LOCATION:inQUBE ul. Wielka 67   
TRANSP: OPAQUE
SEQUENCE:0
UID:
DTSTAMP:20260420T095509Z
SUMMARY:LinkedIn - jak stworzyć skuteczny profil - warsztaty
DESCRIPTION:Zastanawiasz się jak w obecnych czasach wyróżnić się w środowisku biznesowym? Zaraz obok ciężkiej pracy i szczęścia warto pomyśleć o networkingu. Tylko gdzie i w jaki sposób budować......
URL:https://app.evenea.pl/event/warsztatlinkedin/
PRIORITY:1
CLASS:PUBLIC
END:VEVENT
END:VCALENDAR
