BEGIN:VCALENDAR
VERSION:2.0
METHOD:PUBLISH
BEGIN:VEVENT
DTSTART:20240323T100000
DTEND:20240323T160000
LOCATION:Wydział Filozofii i Socjologii Uniwersytetu Marii Curie-Skłodowskiej, sala nr 101 ul. Marii Curie-Skłodowskiej 4  20-031 Lublin
TRANSP: OPAQUE
SEQUENCE:0
UID:
DTSTAMP:20260425T172441Z
SUMMARY:Warsztat: Opór w coachingu, czyli co?
DESCRIPTION:Zapraszamy na kolejne spotkanie z cyklu WGLĄD ZA WGLĄDEM organizowane przez Oddział Lubelski Izby Coachingu.Temat warsztatu: Opór w coachingu, czyli co? Cel i opis spotkaniaSerdecznie......
URL:https://app.evenea.pl/event/warsztatlublin24032024/
PRIORITY:1
CLASS:PUBLIC
END:VEVENT
END:VCALENDAR
