BEGIN:VCALENDAR
VERSION:2.0
METHOD:PUBLISH
BEGIN:VEVENT
DTSTART:20190630T150000
DTEND:20190630T170000
LOCATION:Regionalne Centrum Kultur Pogranicza w Krośnie ul. Kolejowa 1  Krosno
TRANSP: OPAQUE
SEQUENCE:0
UID:
DTSTAMP:20260422T193936Z
SUMMARY:Krośnieński Festiwal Bliskości 30 czerwca 2019 - Złość w relacji rodzic - dziecko. Warsztat w nurcie Porozumienia Bez Przemocy
DESCRIPTION:Warsztat osadzony w nurcie Porozumienia Bez Przemocy.W trakcie spotkania spróbujemy omówić i zastanowić się nad zagadnieniami:- z czym związana jest moja złość- jakie są moje przekonania......
URL:https://app.evenea.pl/event/warsztatozlosci/
PRIORITY:1
CLASS:PUBLIC
END:VEVENT
END:VCALENDAR
