BEGIN:VCALENDAR
VERSION:2.0
METHOD:PUBLISH
BEGIN:VEVENT
DTSTART:20190630T113000
DTEND:20190630T133000
LOCATION:Regionalne Centrum Kultur Pogranicza w Krośnie ul. Kolejowa 1  Krosno
TRANSP: OPAQUE
SEQUENCE:0
UID:
DTSTAMP:20260422T190216Z
SUMMARY:Krośnieński Festiwal Bliskości 30 czerwca 2019 - warsztat chustowy plecak prosty
DESCRIPTION:Zapraszam rodziców noszących swoje dzieci w chuście na naukę wiązania plecaka prostego.Nie musicie posiadać chusty, dysponuję chustami oraz lalami treningowymi. W trakcie zajęć rodzic......
URL:https://app.evenea.pl/event/warsztatplecakowy/
PRIORITY:1
CLASS:PUBLIC
END:VEVENT
END:VCALENDAR
