BEGIN:VCALENDAR
VERSION:2.0
METHOD:PUBLISH
BEGIN:VEVENT
DTSTART:20190630T110000
DTEND:20190630T130000
LOCATION:Regionalne Centrum Kultur Pogranicza w Krośnie ul. Kolejowa 1  Krosno
TRANSP: OPAQUE
SEQUENCE:0
UID:
DTSTAMP:20260422T184224Z
SUMMARY:Krośnieński Festiwal Bliskości 30 czerwca 2019 - Po porodzie i co dalej? - jak dbać o mięśnie dna miednicy
DESCRIPTION:Zapraszam na warsztat przeznaczony dla kobiet. Zagadnienia, które będziemy poruszać:- fizjologia i zmiany zachodzące w mięśniach dna miednicy przez 9 miesięcy ciąży oraz po porodzie-......
URL:https://app.evenea.pl/event/warsztatpoporodzie/
PRIORITY:1
CLASS:PUBLIC
END:VEVENT
END:VCALENDAR
