BEGIN:VCALENDAR
VERSION:2.0
METHOD:PUBLISH
BEGIN:VEVENT
DTSTART:20190630T130000
DTEND:20190630T150000
LOCATION:Regionalne Centrum Kultur Pogranicza w Krośnie ul. Kolejowa 1  Krosno
TRANSP: OPAQUE
SEQUENCE:0
UID:
DTSTAMP:20260422T192212Z
SUMMARY:Krośnieński Festiwal Bliskości 30 czerwca 2019 - Rodzeństwo - jak przygotować siebie i dziecko na zmiany
DESCRIPTION:Zapraszam na spotkanie rodziców, którzy planują powiększenie rodziny o kolejne dziecko, tych, którzy już oczekują narodzin kolejnego dziecka , a także tych, którzy w ostatnim czasie......
URL:https://app.evenea.pl/event/warsztatrodzenstwo/
PRIORITY:1
CLASS:PUBLIC
END:VEVENT
END:VCALENDAR
